BEGIN:VCALENDAR
VERSION:2.0
PRODID:-//Boys &amp; Girls Clubs of Greater Milwaukee - ECPv6.15.15//NONSGML v1.0//EN
CALSCALE:GREGORIAN
METHOD:PUBLISH
X-ORIGINAL-URL:https://bgcmilwaukee.org
X-WR-CALDESC:Events for Boys &amp; Girls Clubs of Greater Milwaukee
REFRESH-INTERVAL;VALUE=DURATION:PT1H
X-Robots-Tag:noindex
X-PUBLISHED-TTL:PT1H
BEGIN:VTIMEZONE
TZID:America/Chicago
BEGIN:DAYLIGHT
TZOFFSETFROM:-0600
TZOFFSETTO:-0500
TZNAME:CDT
DTSTART:20250309T080000
END:DAYLIGHT
BEGIN:STANDARD
TZOFFSETFROM:-0500
TZOFFSETTO:-0600
TZNAME:CST
DTSTART:20251102T070000
END:STANDARD
BEGIN:DAYLIGHT
TZOFFSETFROM:-0600
TZOFFSETTO:-0500
TZNAME:CDT
DTSTART:20260308T080000
END:DAYLIGHT
BEGIN:STANDARD
TZOFFSETFROM:-0500
TZOFFSETTO:-0600
TZNAME:CST
DTSTART:20261101T070000
END:STANDARD
BEGIN:DAYLIGHT
TZOFFSETFROM:-0600
TZOFFSETTO:-0500
TZNAME:CDT
DTSTART:20270314T080000
END:DAYLIGHT
BEGIN:STANDARD
TZOFFSETFROM:-0500
TZOFFSETTO:-0600
TZNAME:CST
DTSTART:20271107T070000
END:STANDARD
END:VTIMEZONE
BEGIN:VEVENT
DTSTART;TZID=America/Chicago:20260511T173000
DTEND;TZID=America/Chicago:20260511T200000
DTSTAMP:20260423T093020
CREATED:20251027T203447Z
LAST-MODIFIED:20251027T204036Z
UID:10000002-1778520600-1778529600@bgcmilwaukee.org
SUMMARY:MVP Salute to Youth
DESCRIPTION:Join us for the 2026 MVP Salute to Youth hosted by Boys & Girls Clubs of Greater Milwaukee — an inspiring evening where we honor the young leaders of tomorrow\, along with the individuals and organizations fueling their success. This celebration brings together community champions\, mentors\, and supporters committed to ensuring every young person in Milwaukee has the opportunity to thrive. \nSet in the heart of the city\, the gala offers a powerful blend of recognition\, storytelling\, and celebration—highlighting real impact and real futures being built. Whether you’re joining as a guest\, sponsor\, or honoree\, your presence helps elevate our mission and opens doors for countless kids to step into a brighter future.
URL:https://bgcmilwaukee.org/event/mvp-salute-to-youth/
LOCATION:Baird Center\, 400 W. Wisconsin Avenue\, Milwaukee\, WI\, 53203\, United States
ATTACH;FMTTYPE=image/jpeg:https://bgcmilwaukee.org/wp-content/uploads/2025/10/MVP2025_3V3A3057.jpg
GEO:43.0400994;-87.917473
X-APPLE-STRUCTURED-LOCATION;VALUE=URI;X-ADDRESS=Baird Center 400 W. Wisconsin Avenue Milwaukee WI 53203 United States;X-APPLE-RADIUS=500;X-TITLE=400 W. Wisconsin Avenue:geo:-87.917473,43.0400994
END:VEVENT
BEGIN:VEVENT
DTSTART;TZID=America/Chicago:20260819T170000
DTEND;TZID=America/Chicago:20260819T200000
DTSTAMP:20260423T093020
CREATED:20251027T204751Z
LAST-MODIFIED:20251027T204751Z
UID:10000003-1787158800-1787169600@bgcmilwaukee.org
SUMMARY:S'More Fun at Camp
DESCRIPTION:Gather around the campfire for S’more Fun at Camp 2026\, Boys & Girls Clubs of Greater Milwaukee’s beloved summer celebration at Camp Whitcomb/Mason. Guests will enjoy a relaxed picnic-style dinner\, heartfelt stories from Club members and staff\, and\, of course\, a sweet ending with s’mores by the fire. It’s an evening that captures the warmth and spirit of camp while supporting the programs that make a lasting difference in kids’ lives. \nEach year\, this special event brings together friends\, donors\, and community partners to celebrate the impact of the Clubs and the promise of every child we serve. Join us for an evening filled with good food\, great company\, and meaningful moments—all in the name of building brighter futures for Milwaukee’s youth.
URL:https://bgcmilwaukee.org/event/smore-fun-at-camp/
LOCATION:Camp Whitcomb/Mason\, W294N8436 Camp Whitcomb Rd\, Hartland\, WI\, 53209\, United States
ATTACH;FMTTYPE=image/jpeg:https://bgcmilwaukee.org/wp-content/uploads/2025/10/Smores_Blanket2.jpg
GEO:43.1719664;-88.3262468
X-APPLE-STRUCTURED-LOCATION;VALUE=URI;X-ADDRESS=Camp Whitcomb/Mason W294N8436 Camp Whitcomb Rd Hartland WI 53209 United States;X-APPLE-RADIUS=500;X-TITLE=W294N8436 Camp Whitcomb Rd:geo:-88.3262468,43.1719664
END:VEVENT
END:VCALENDAR